BEGIN:VCALENDAR
VERSION:2.0
PRODID:-//Ida-Purper-Schule - ECPv6.15.18//NONSGML v1.0//EN
CALSCALE:GREGORIAN
METHOD:PUBLISH
X-ORIGINAL-URL:https://www.ida-purper-schule.de
X-WR-CALDESC:Veranstaltungen für Ida-Purper-Schule
REFRESH-INTERVAL;VALUE=DURATION:PT1H
X-Robots-Tag:noindex
X-PUBLISHED-TTL:PT1H
BEGIN:VTIMEZONE
TZID:Europe/Berlin
BEGIN:DAYLIGHT
TZOFFSETFROM:+0100
TZOFFSETTO:+0200
TZNAME:CEST
DTSTART:20240331T010000
END:DAYLIGHT
BEGIN:STANDARD
TZOFFSETFROM:+0200
TZOFFSETTO:+0100
TZNAME:CET
DTSTART:20241027T010000
END:STANDARD
BEGIN:DAYLIGHT
TZOFFSETFROM:+0100
TZOFFSETTO:+0200
TZNAME:CEST
DTSTART:20250330T010000
END:DAYLIGHT
BEGIN:STANDARD
TZOFFSETFROM:+0200
TZOFFSETTO:+0100
TZNAME:CET
DTSTART:20251026T010000
END:STANDARD
BEGIN:DAYLIGHT
TZOFFSETFROM:+0100
TZOFFSETTO:+0200
TZNAME:CEST
DTSTART:20260329T010000
END:DAYLIGHT
BEGIN:STANDARD
TZOFFSETFROM:+0200
TZOFFSETTO:+0100
TZNAME:CET
DTSTART:20261025T010000
END:STANDARD
END:VTIMEZONE
BEGIN:VEVENT
DTSTART;VALUE=DATE:20250619
DTEND;VALUE=DATE:20250620
DTSTAMP:20260422T074332
CREATED:20250618T092153Z
LAST-MODIFIED:20250618T092153Z
UID:10000198-1750291200-1750377599@www.ida-purper-schule.de
SUMMARY:Fronleichnahm - Feiertag
DESCRIPTION:
URL:https://www.ida-purper-schule.de/veranstaltung/fronleichnahm-feiertag/
END:VEVENT
BEGIN:VEVENT
DTSTART;VALUE=DATE:20250620
DTEND;VALUE=DATE:20250621
DTSTAMP:20260422T074332
CREATED:20250508T060217Z
LAST-MODIFIED:20250618T092218Z
UID:10000194-1750377600-1750463999@www.ida-purper-schule.de
SUMMARY:Beweglicher Ferientag - schulfrei
DESCRIPTION:
URL:https://www.ida-purper-schule.de/veranstaltung/beweglicher-ferientag-schulfrei/
END:VEVENT
BEGIN:VEVENT
DTSTART;TZID=Europe/Berlin:20250627T180000
DTEND;TZID=Europe/Berlin:20250627T200000
DTSTAMP:20260422T074332
CREATED:20250508T060405Z
LAST-MODIFIED:20250508T060405Z
UID:10000196-1751047200-1751054400@www.ida-purper-schule.de
SUMMARY:Abschlussfeier 2025
DESCRIPTION:
URL:https://www.ida-purper-schule.de/veranstaltung/abschlussfeier-2025/
END:VEVENT
END:VCALENDAR