BEGIN:VCALENDAR
VERSION:2.0
PRODID:-//Ida-Purper-Schule - ECPv6.15.18//NONSGML v1.0//EN
CALSCALE:GREGORIAN
METHOD:PUBLISH
X-ORIGINAL-URL:https://www.ida-purper-schule.de
X-WR-CALDESC:Veranstaltungen für Ida-Purper-Schule
REFRESH-INTERVAL;VALUE=DURATION:PT1H
X-Robots-Tag:noindex
X-PUBLISHED-TTL:PT1H
BEGIN:VTIMEZONE
TZID:Europe/Berlin
BEGIN:DAYLIGHT
TZOFFSETFROM:+0100
TZOFFSETTO:+0200
TZNAME:CEST
DTSTART:20230326T010000
END:DAYLIGHT
BEGIN:STANDARD
TZOFFSETFROM:+0200
TZOFFSETTO:+0100
TZNAME:CET
DTSTART:20231029T010000
END:STANDARD
BEGIN:DAYLIGHT
TZOFFSETFROM:+0100
TZOFFSETTO:+0200
TZNAME:CEST
DTSTART:20240331T010000
END:DAYLIGHT
BEGIN:STANDARD
TZOFFSETFROM:+0200
TZOFFSETTO:+0100
TZNAME:CET
DTSTART:20241027T010000
END:STANDARD
BEGIN:DAYLIGHT
TZOFFSETFROM:+0100
TZOFFSETTO:+0200
TZNAME:CEST
DTSTART:20250330T010000
END:DAYLIGHT
BEGIN:STANDARD
TZOFFSETFROM:+0200
TZOFFSETTO:+0100
TZNAME:CET
DTSTART:20251026T010000
END:STANDARD
END:VTIMEZONE
BEGIN:VEVENT
DTSTART;TZID=Europe/Berlin:20241101T080000
DTEND;TZID=Europe/Berlin:20241101T170000
DTSTAMP:20260422T192319
CREATED:20241007T062001Z
LAST-MODIFIED:20241007T062001Z
UID:10000168-1730448000-1730480400@www.ida-purper-schule.de
SUMMARY:Allerheiligen - Feiertag
DESCRIPTION:
URL:https://www.ida-purper-schule.de/veranstaltung/allerheiligen-feiertag-2/
END:VEVENT
BEGIN:VEVENT
DTSTART;TZID=Europe/Berlin:20241107T080000
DTEND;TZID=Europe/Berlin:20241107T131000
DTSTAMP:20260422T192319
CREATED:20241007T061925Z
LAST-MODIFIED:20241007T061925Z
UID:10000167-1730966400-1730985000@www.ida-purper-schule.de
SUMMARY:ÜberdasLeben - Theater Klassen 9c\, 10a und 10b
DESCRIPTION:
URL:https://www.ida-purper-schule.de/veranstaltung/ueberdasleben-theater-klassen-9c-10a-und-10b/
END:VEVENT
BEGIN:VEVENT
DTSTART;TZID=Europe/Berlin:20241114T160000
DTEND;TZID=Europe/Berlin:20241114T200000
DTSTAMP:20260422T192319
CREATED:20241007T061825Z
LAST-MODIFIED:20241007T061825Z
UID:10000166-1731600000-1731614400@www.ida-purper-schule.de
SUMMARY:Elternsprechtag
DESCRIPTION:
URL:https://www.ida-purper-schule.de/veranstaltung/elternsprechtag-4/
END:VEVENT
BEGIN:VEVENT
DTSTART;TZID=Europe/Berlin:20241122T150000
DTEND;TZID=Europe/Berlin:20241122T180000
DTSTAMP:20260422T192319
CREATED:20241007T061753Z
LAST-MODIFIED:20241007T061753Z
UID:10000165-1732287600-1732298400@www.ida-purper-schule.de
SUMMARY:Elternsprechtag
DESCRIPTION:
URL:https://www.ida-purper-schule.de/veranstaltung/elternsprechtag-3/
END:VEVENT
BEGIN:VEVENT
DTSTART;TZID=Europe/Berlin:20241126T080000
DTEND;TZID=Europe/Berlin:20241126T131000
DTSTAMP:20260422T192319
CREATED:20241007T061705Z
LAST-MODIFIED:20241007T061705Z
UID:10000164-1732608000-1732626600@www.ida-purper-schule.de
SUMMARY:NEPS Studie Klasse 7
DESCRIPTION:
URL:https://www.ida-purper-schule.de/veranstaltung/neps-studie-klasse-7/
END:VEVENT
END:VCALENDAR